BEGIN:VCALENDAR
VERSION:2.0
PRODID:-//Stillwaters Alano Club - ECPv6.15.11//NONSGML v1.0//EN
CALSCALE:GREGORIAN
METHOD:PUBLISH
X-WR-CALNAME:Stillwaters Alano Club
X-ORIGINAL-URL:https://stillwatersalano.org
X-WR-CALDESC:Events for Stillwaters Alano Club
REFRESH-INTERVAL;VALUE=DURATION:PT1H
X-Robots-Tag:noindex
X-PUBLISHED-TTL:PT1H
BEGIN:VTIMEZONE
TZID:America/Chicago
BEGIN:DAYLIGHT
TZOFFSETFROM:-0600
TZOFFSETTO:-0500
TZNAME:CDT
DTSTART:20230312T080000
END:DAYLIGHT
BEGIN:STANDARD
TZOFFSETFROM:-0500
TZOFFSETTO:-0600
TZNAME:CST
DTSTART:20231105T070000
END:STANDARD
BEGIN:DAYLIGHT
TZOFFSETFROM:-0600
TZOFFSETTO:-0500
TZNAME:CDT
DTSTART:20240310T080000
END:DAYLIGHT
BEGIN:STANDARD
TZOFFSETFROM:-0500
TZOFFSETTO:-0600
TZNAME:CST
DTSTART:20241103T070000
END:STANDARD
BEGIN:DAYLIGHT
TZOFFSETFROM:-0600
TZOFFSETTO:-0500
TZNAME:CDT
DTSTART:20250309T080000
END:DAYLIGHT
BEGIN:STANDARD
TZOFFSETFROM:-0500
TZOFFSETTO:-0600
TZNAME:CST
DTSTART:20251102T070000
END:STANDARD
END:VTIMEZONE
BEGIN:VEVENT
DTSTART;TZID=America/Chicago:20240317T150000
DTEND;TZID=America/Chicago:20240317T180000
DTSTAMP:20260422T175135
CREATED:20240308T222644Z
LAST-MODIFIED:20240308T222728Z
UID:662-1710687600-1710698400@stillwatersalano.org
SUMMARY:St. Patrick's Day Party
DESCRIPTION:St. Patrick’s Day Party \nSunday March 17th \nStarts at 3:00 PM and ends at 6:00 PM. \n  \n$10 Dollar Donation at the door. \n  \n\n50/50 Raffle\nMusic\nFellowship\nBasket Raffle\nIrish Goodbyes~\n\nPlease click here for more information
URL:https://stillwatersalano.org/event/st-patricks-day-party/
END:VEVENT
END:VCALENDAR