BEGIN:VCALENDAR
VERSION:2.0
PRODID:-//Stillwaters Alano Club - ECPv6.15.11//NONSGML v1.0//EN
CALSCALE:GREGORIAN
METHOD:PUBLISH
X-WR-CALNAME:Stillwaters Alano Club
X-ORIGINAL-URL:https://stillwatersalano.org
X-WR-CALDESC:Events for Stillwaters Alano Club
REFRESH-INTERVAL;VALUE=DURATION:PT1H
X-Robots-Tag:noindex
X-PUBLISHED-TTL:PT1H
BEGIN:VTIMEZONE
TZID:America/Chicago
BEGIN:DAYLIGHT
TZOFFSETFROM:-0600
TZOFFSETTO:-0500
TZNAME:CDT
DTSTART:20240310T080000
END:DAYLIGHT
BEGIN:STANDARD
TZOFFSETFROM:-0500
TZOFFSETTO:-0600
TZNAME:CST
DTSTART:20241103T070000
END:STANDARD
BEGIN:DAYLIGHT
TZOFFSETFROM:-0600
TZOFFSETTO:-0500
TZNAME:CDT
DTSTART:20250309T080000
END:DAYLIGHT
BEGIN:STANDARD
TZOFFSETFROM:-0500
TZOFFSETTO:-0600
TZNAME:CST
DTSTART:20251102T070000
END:STANDARD
BEGIN:DAYLIGHT
TZOFFSETFROM:-0600
TZOFFSETTO:-0500
TZNAME:CDT
DTSTART:20260308T080000
END:DAYLIGHT
BEGIN:STANDARD
TZOFFSETFROM:-0500
TZOFFSETTO:-0600
TZNAME:CST
DTSTART:20261101T070000
END:STANDARD
END:VTIMEZONE
BEGIN:VEVENT
DTSTART;TZID=America/Chicago:20250316T150000
DTEND;TZID=America/Chicago:20250316T180000
DTSTAMP:20260421T220042
CREATED:20250309T170907Z
LAST-MODIFIED:20250309T170907Z
UID:771-1742137200-1742148000@stillwatersalano.org
SUMMARY:St. Patrick’s Day Party
DESCRIPTION:What: St Patrick’s Day Fundraiser \nWhen: 3:00 PM to 6:00 PM\, Sunday March 16th. \n$12 suggested dollar donation at the door.
URL:https://stillwatersalano.org/event/st-patricks-day-party-2/
END:VEVENT
END:VCALENDAR