BEGIN:VCALENDAR
VERSION:2.0
PRODID:-//Stillwaters Alano Club - ECPv6.15.11//NONSGML v1.0//EN
CALSCALE:GREGORIAN
METHOD:PUBLISH
X-WR-CALNAME:Stillwaters Alano Club
X-ORIGINAL-URL:https://stillwatersalano.org
X-WR-CALDESC:Events for Stillwaters Alano Club
REFRESH-INTERVAL;VALUE=DURATION:PT1H
X-Robots-Tag:noindex
X-PUBLISHED-TTL:PT1H
BEGIN:VTIMEZONE
TZID:America/Chicago
BEGIN:DAYLIGHT
TZOFFSETFROM:-0600
TZOFFSETTO:-0500
TZNAME:CDT
DTSTART:20250309T080000
END:DAYLIGHT
BEGIN:STANDARD
TZOFFSETFROM:-0500
TZOFFSETTO:-0600
TZNAME:CST
DTSTART:20251102T070000
END:STANDARD
BEGIN:DAYLIGHT
TZOFFSETFROM:-0600
TZOFFSETTO:-0500
TZNAME:CDT
DTSTART:20260308T080000
END:DAYLIGHT
BEGIN:STANDARD
TZOFFSETFROM:-0500
TZOFFSETTO:-0600
TZNAME:CST
DTSTART:20261101T070000
END:STANDARD
BEGIN:DAYLIGHT
TZOFFSETFROM:-0600
TZOFFSETTO:-0500
TZNAME:CDT
DTSTART:20270314T080000
END:DAYLIGHT
BEGIN:STANDARD
TZOFFSETFROM:-0500
TZOFFSETTO:-0600
TZNAME:CST
DTSTART:20271107T070000
END:STANDARD
END:VTIMEZONE
BEGIN:VEVENT
DTSTART;TZID=America/Chicago:20260214T200000
DTEND;TZID=America/Chicago:20260214T220000
DTSTAMP:20260421T033333
CREATED:20260207T142545Z
LAST-MODIFIED:20260211T025058Z
UID:789-1771099200-1771106400@stillwatersalano.org
SUMMARY:Valentine's Day Party at Stillwaters Alano Club
DESCRIPTION:Join us for a Valentine’s party this Saturday\, February 14th at Stillwaters Alano Club. \n  \nOur Saturday night speaker for this event is Circuit Speaker Sloan\, starting promptly at 8:00 pm.  After the speaker meeting there will be deserts\, games love bingo and more! \n  \nPlease bring a dessert to share or a $5.00 suggested basket donation. \n  \n  \n  \nStillwaters Alano Club \n27 144 W. Industrial Ave. \nSuite 122 \nLake Barrington\, IL. 60010 \n 
URL:https://stillwatersalano.org/event/valentines-day-party-at-stillwaters-alano-club/
LOCATION:Stillwaters Alano Club\, 28144 West Industrial Avenue\, Lake Barrington\, IL\, United States
ATTACH;FMTTYPE=image/png:https://stillwatersalano.org/wp-content/uploads/2026/02/Valentines-Day-Flyer.png
END:VEVENT
END:VCALENDAR